BEGIN:VCALENDAR
VERSION:2.0
PRODID:-//MAGIC SF - ECPv6.15.20//NONSGML v1.0//EN
CALSCALE:GREGORIAN
METHOD:PUBLISH
X-ORIGINAL-URL:https://magic-sf.org
X-WR-CALDESC:Events for MAGIC SF
REFRESH-INTERVAL;VALUE=DURATION:PT1H
X-Robots-Tag:noindex
X-PUBLISHED-TTL:PT1H
BEGIN:VTIMEZONE
TZID:America/Los_Angeles
BEGIN:DAYLIGHT
TZOFFSETFROM:-0800
TZOFFSETTO:-0700
TZNAME:PDT
DTSTART:20250309T100000
END:DAYLIGHT
BEGIN:STANDARD
TZOFFSETFROM:-0700
TZOFFSETTO:-0800
TZNAME:PST
DTSTART:20251102T090000
END:STANDARD
BEGIN:DAYLIGHT
TZOFFSETFROM:-0800
TZOFFSETTO:-0700
TZNAME:PDT
DTSTART:20260308T100000
END:DAYLIGHT
BEGIN:STANDARD
TZOFFSETFROM:-0700
TZOFFSETTO:-0800
TZNAME:PST
DTSTART:20261101T090000
END:STANDARD
BEGIN:DAYLIGHT
TZOFFSETFROM:-0800
TZOFFSETTO:-0700
TZNAME:PDT
DTSTART:20270314T100000
END:DAYLIGHT
BEGIN:STANDARD
TZOFFSETFROM:-0700
TZOFFSETTO:-0800
TZNAME:PST
DTSTART:20271107T090000
END:STANDARD
END:VTIMEZONE
BEGIN:VEVENT
DTSTART;TZID=America/Los_Angeles:20260424T173000
DTEND;TZID=America/Los_Angeles:20260424T200000
DTSTAMP:20260423T112749
CREATED:20260421T213250Z
LAST-MODIFIED:20260421T213250Z
UID:10002676-1777051800-1777060800@magic-sf.org
SUMMARY:Poems Under the Dome
DESCRIPTION:Calling all Poets. Come out to the 21st Annual Poems Under the Dome\, a celebration of National Poetry Month at the San Francisco City Hall (North Light Court)\, Friday\, April 24th\, from 5:30pm to 8pm. \nIt’s a free\, all-ages community event inviting all poets and poetry fans to put their name in the hat for a chance to read a poem in City Hall. This year\, the event is being presented by the San Francisco Public Library and our Poet Laureate Genny Lim will read the first poem. Each reader is limited to one poem that can be read or recited in under 3 minutes.
URL:https://magic-sf.org/event/poems-under-the-dome/
LOCATION:City Hall – North Light Court\, 1 Dr. Carlton B. Goodlett Place\, San Francisco\, CA\, 94102\, United States
CATEGORIES:Bayview,Fillmore
END:VEVENT
END:VCALENDAR