BEGIN:VCALENDAR
VERSION:2.0
PRODID:-//MAGIC SF - ECPv6.15.20//NONSGML v1.0//EN
CALSCALE:GREGORIAN
METHOD:PUBLISH
X-ORIGINAL-URL:https://magic-sf.org
X-WR-CALDESC:Events for MAGIC SF
REFRESH-INTERVAL;VALUE=DURATION:PT1H
X-Robots-Tag:noindex
X-PUBLISHED-TTL:PT1H
BEGIN:VTIMEZONE
TZID:America/Los_Angeles
BEGIN:DAYLIGHT
TZOFFSETFROM:-0800
TZOFFSETTO:-0700
TZNAME:PDT
DTSTART:20250309T100000
END:DAYLIGHT
BEGIN:STANDARD
TZOFFSETFROM:-0700
TZOFFSETTO:-0800
TZNAME:PST
DTSTART:20251102T090000
END:STANDARD
BEGIN:DAYLIGHT
TZOFFSETFROM:-0800
TZOFFSETTO:-0700
TZNAME:PDT
DTSTART:20260308T100000
END:DAYLIGHT
BEGIN:STANDARD
TZOFFSETFROM:-0700
TZOFFSETTO:-0800
TZNAME:PST
DTSTART:20261101T090000
END:STANDARD
BEGIN:DAYLIGHT
TZOFFSETFROM:-0800
TZOFFSETTO:-0700
TZNAME:PDT
DTSTART:20270314T100000
END:DAYLIGHT
BEGIN:STANDARD
TZOFFSETFROM:-0700
TZOFFSETTO:-0800
TZNAME:PST
DTSTART:20271107T090000
END:STANDARD
END:VTIMEZONE
BEGIN:VEVENT
DTSTART;TZID=America/Los_Angeles:20260530T110000
DTEND;TZID=America/Los_Angeles:20260530T140000
DTSTAMP:20260423T142759
CREATED:20260422T155203Z
LAST-MODIFIED:20260422T155203Z
UID:10002680-1780138800-1780149600@magic-sf.org
SUMMARY:Bayview Family Festival
DESCRIPTION: Join the San Francisco Department of Early Childhood for a free family festival with inclusive activities and food. Families of children with disabilities and complex medical needs are especially welcome! Please register at this link. The Bayview Family Festival is presented by Support for Families of Children with Disabilities in partnership with Wu Yee Children’s Services and support from the San Francisco Department of Early Childhood. \n 
URL:https://magic-sf.org/event/bayview-family-festival/
LOCATION:India Basin Waterfront Park\, 900 Innes Avenue\, San Francisco\, 94124
CATEGORIES:Bayview
END:VEVENT
END:VCALENDAR